BEGIN:VCALENDAR
VERSION:2.0
PRODID:-//Contratero//ES
CALSCALE:GREGORIAN
METHOD:PUBLISH
BEGIN:VEVENT
UID:PN 2025/139@contratero.es
DTSTAMP:20260422T172617Z
DTSTART:20251230T235959
DTEND:20251231T005959
SUMMARY:Cierre: Servicio de traslado y pruebas de la "Plataforma t
DESCRIPTION:Servicio de traslado y pruebas de la "Plataforma tecnológica SENECA" con destino al Servicio de Urgencias y Emergencias 061 de Melilla\\n\\nOrganismo: Dirección del Instituto Nacional de Gestión Sanitaria (INGESA)\\n\\nVer en Contratero: https://contratero.es/contracts/PN 2025/139
URL:https://contratero.es/contracts/PN 2025/139
STATUS:CONFIRMED
BEGIN:VALARM
TRIGGER:-P1D
ACTION:DISPLAY
DESCRIPTION:Recordatorio: Servicio de traslado y pruebas
END:VALARM
END:VEVENT
END:VCALENDAR